BEGIN:VCALENDAR
VERSION:2.0
PRODID:-//Lincoln Valley - ECPv6.15.17.1//NONSGML v1.0//EN
CALSCALE:GREGORIAN
METHOD:PUBLISH
X-ORIGINAL-URL:http://www.lincolnvalleygolf.com
X-WR-CALDESC:Events for Lincoln Valley
REFRESH-INTERVAL;VALUE=DURATION:PT1H
X-Robots-Tag:noindex
X-PUBLISHED-TTL:PT1H
BEGIN:VTIMEZONE
TZID:America/Chicago
BEGIN:DAYLIGHT
TZOFFSETFROM:-0600
TZOFFSETTO:-0500
TZNAME:CDT
DTSTART:20210314T080000
END:DAYLIGHT
BEGIN:STANDARD
TZOFFSETFROM:-0500
TZOFFSETTO:-0600
TZNAME:CST
DTSTART:20211107T070000
END:STANDARD
BEGIN:DAYLIGHT
TZOFFSETFROM:-0600
TZOFFSETTO:-0500
TZNAME:CDT
DTSTART:20220313T080000
END:DAYLIGHT
BEGIN:STANDARD
TZOFFSETFROM:-0500
TZOFFSETTO:-0600
TZNAME:CST
DTSTART:20221106T070000
END:STANDARD
BEGIN:DAYLIGHT
TZOFFSETFROM:-0600
TZOFFSETTO:-0500
TZNAME:CDT
DTSTART:20230312T080000
END:DAYLIGHT
BEGIN:STANDARD
TZOFFSETFROM:-0500
TZOFFSETTO:-0600
TZNAME:CST
DTSTART:20231105T070000
END:STANDARD
END:VTIMEZONE
BEGIN:VEVENT
DTSTART;TZID=America/Chicago:20220726T120000
DTEND;TZID=America/Chicago:20220726T210000
DTSTAMP:20260420T000246
CREATED:20220628T000324Z
LAST-MODIFIED:20220628T000331Z
UID:25865-1658836800-1658869200@www.lincolnvalleygolf.com
SUMMARY:Men’s Association Coors Light Stag
DESCRIPTION:Men’s Association Coors Light Stag\nJuly 26th\, 2022\nOpen 4 Man Best Shot Tournament – 18 Holes\n12:00 p.m. Registration 1:00 p.m. Shotgun Start 8 Some per tee\n$45.00/Man – Includes: Dinner\, Green Fees\, Sponsor Gifts\, Raffle and Hole Prizes\nCall for reservations 641-483-2054 Registration does not include cart!
URL:http://www.lincolnvalleygolf.com/event/mens-association-coors-light-stag/
END:VEVENT
END:VCALENDAR