BEGIN:VCALENDAR
VERSION:2.0
PRODID:-//Lincoln Valley - ECPv6.15.17.1//NONSGML v1.0//EN
CALSCALE:GREGORIAN
METHOD:PUBLISH
X-ORIGINAL-URL:http://www.lincolnvalleygolf.com
X-WR-CALDESC:Events for Lincoln Valley
REFRESH-INTERVAL;VALUE=DURATION:PT1H
X-Robots-Tag:noindex
X-PUBLISHED-TTL:PT1H
BEGIN:VTIMEZONE
TZID:America/Chicago
BEGIN:DAYLIGHT
TZOFFSETFROM:-0600
TZOFFSETTO:-0500
TZNAME:CDT
DTSTART:20240310T080000
END:DAYLIGHT
BEGIN:STANDARD
TZOFFSETFROM:-0500
TZOFFSETTO:-0600
TZNAME:CST
DTSTART:20241103T070000
END:STANDARD
BEGIN:DAYLIGHT
TZOFFSETFROM:-0600
TZOFFSETTO:-0500
TZNAME:CDT
DTSTART:20250309T080000
END:DAYLIGHT
BEGIN:STANDARD
TZOFFSETFROM:-0500
TZOFFSETTO:-0600
TZNAME:CST
DTSTART:20251102T070000
END:STANDARD
BEGIN:DAYLIGHT
TZOFFSETFROM:-0600
TZOFFSETTO:-0500
TZNAME:CDT
DTSTART:20260308T080000
END:DAYLIGHT
BEGIN:STANDARD
TZOFFSETFROM:-0500
TZOFFSETTO:-0600
TZNAME:CST
DTSTART:20261101T070000
END:STANDARD
END:VTIMEZONE
BEGIN:VEVENT
DTSTART;TZID=America/Chicago:20250514T083000
DTEND;TZID=America/Chicago:20250514T110000
DTSTAMP:20260425T144113
CREATED:20250430T141449Z
LAST-MODIFIED:20250430T141449Z
UID:40965-1747211400-1747220400@www.lincolnvalleygolf.com
SUMMARY:Men Over 50
DESCRIPTION:Wednesday Morning Men Over 50 \n9am shotgun – must be here and signed in by 8:45am
URL:http://www.lincolnvalleygolf.com/event/men-over-50/
END:VEVENT
BEGIN:VEVENT
DTSTART;TZID=America/Chicago:20250514T180000
DTEND;TZID=America/Chicago:20250514T210000
DTSTAMP:20260425T144113
CREATED:20250507T153212Z
LAST-MODIFIED:20250507T153212Z
UID:41035-1747245600-1747256400@www.lincolnvalleygolf.com
SUMMARY:Ladies League - 6pm - Back 9 Closed
DESCRIPTION:2-Gal Best Shot League – Week 2 \n6pm – Back 9 Closed
URL:http://www.lincolnvalleygolf.com/event/ladies-league-6pm-back-9-closed/
END:VEVENT
END:VCALENDAR