BEGIN:VCALENDAR
VERSION:2.0
PRODID:-//Lincoln Valley - ECPv6.15.17.1//NONSGML v1.0//EN
CALSCALE:GREGORIAN
METHOD:PUBLISH
X-ORIGINAL-URL:http://www.lincolnvalleygolf.com
X-WR-CALDESC:Events for Lincoln Valley
REFRESH-INTERVAL;VALUE=DURATION:PT1H
X-Robots-Tag:noindex
X-PUBLISHED-TTL:PT1H
BEGIN:VTIMEZONE
TZID:America/Chicago
BEGIN:DAYLIGHT
TZOFFSETFROM:-0600
TZOFFSETTO:-0500
TZNAME:CDT
DTSTART:20240310T080000
END:DAYLIGHT
BEGIN:STANDARD
TZOFFSETFROM:-0500
TZOFFSETTO:-0600
TZNAME:CST
DTSTART:20241103T070000
END:STANDARD
BEGIN:DAYLIGHT
TZOFFSETFROM:-0600
TZOFFSETTO:-0500
TZNAME:CDT
DTSTART:20250309T080000
END:DAYLIGHT
BEGIN:STANDARD
TZOFFSETFROM:-0500
TZOFFSETTO:-0600
TZNAME:CST
DTSTART:20251102T070000
END:STANDARD
BEGIN:DAYLIGHT
TZOFFSETFROM:-0600
TZOFFSETTO:-0500
TZNAME:CDT
DTSTART:20260308T080000
END:DAYLIGHT
BEGIN:STANDARD
TZOFFSETFROM:-0500
TZOFFSETTO:-0600
TZNAME:CST
DTSTART:20261101T070000
END:STANDARD
END:VTIMEZONE
BEGIN:VEVENT
DTSTART;TZID=America/Chicago:20250701T080000
DTEND;TZID=America/Chicago:20250701T100000
DTSTAMP:20260425T110342
CREATED:20250131T174346Z
LAST-MODIFIED:20250131T174346Z
UID:39845-1751356800-1751364000@www.lincolnvalleygolf.com
SUMMARY:Saydel Group
DESCRIPTION:Saydel Group 8am-10am \nVery Busy Morning – You must have a tee time
URL:http://www.lincolnvalleygolf.com/event/saydel-group-17/
END:VEVENT
END:VCALENDAR