BEGIN:VCALENDAR
VERSION:2.0
PRODID:-//Lincoln Valley - ECPv6.15.17.1//NONSGML v1.0//EN
CALSCALE:GREGORIAN
METHOD:PUBLISH
X-WR-CALNAME:Lincoln Valley
X-ORIGINAL-URL:http://www.lincolnvalleygolf.com
X-WR-CALDESC:Events for Lincoln Valley
REFRESH-INTERVAL;VALUE=DURATION:PT1H
X-Robots-Tag:noindex
X-PUBLISHED-TTL:PT1H
BEGIN:VTIMEZONE
TZID:America/Chicago
BEGIN:DAYLIGHT
TZOFFSETFROM:-0600
TZOFFSETTO:-0500
TZNAME:CDT
DTSTART:20240310T080000
END:DAYLIGHT
BEGIN:STANDARD
TZOFFSETFROM:-0500
TZOFFSETTO:-0600
TZNAME:CST
DTSTART:20241103T070000
END:STANDARD
BEGIN:DAYLIGHT
TZOFFSETFROM:-0600
TZOFFSETTO:-0500
TZNAME:CDT
DTSTART:20250309T080000
END:DAYLIGHT
BEGIN:STANDARD
TZOFFSETFROM:-0500
TZOFFSETTO:-0600
TZNAME:CST
DTSTART:20251102T070000
END:STANDARD
BEGIN:DAYLIGHT
TZOFFSETFROM:-0600
TZOFFSETTO:-0500
TZNAME:CDT
DTSTART:20260308T080000
END:DAYLIGHT
BEGIN:STANDARD
TZOFFSETFROM:-0500
TZOFFSETTO:-0600
TZNAME:CST
DTSTART:20261101T070000
END:STANDARD
END:VTIMEZONE
BEGIN:VEVENT
DTSTART;TZID=America/Chicago:20250723T180000
DTEND;TZID=America/Chicago:20250723T210000
DTSTAMP:20260425T110257
CREATED:20250609T173101Z
LAST-MODIFIED:20250609T173101Z
UID:41795-1753293600-1753304400@www.lincolnvalleygolf.com
SUMMARY:Ladies League - 6pm Front 9 Closed
DESCRIPTION:2-Gal Best Shot – Ladies League \n1st week of session 3 \n6pm shotgun – Front 9 Closed
URL:http://www.lincolnvalleygolf.com/event/ladies-league-6pm-front-9-closed-5/
END:VEVENT
BEGIN:VEVENT
DTSTART;TZID=America/Chicago:20250723T190000
DTEND;TZID=America/Chicago:20250723T210000
DTSTAMP:20260425T110257
CREATED:20250609T170519Z
LAST-MODIFIED:20250609T170519Z
UID:41755-1753297200-1753304400@www.lincolnvalleygolf.com
SUMMARY:Board Meeting - 7pm
DESCRIPTION:
URL:http://www.lincolnvalleygolf.com/event/board-meeting-7pm-10/
END:VEVENT
END:VCALENDAR