BEGIN:VCALENDAR
VERSION:2.0
PRODID:-//Lincoln Valley - ECPv6.15.17.1//NONSGML v1.0//EN
CALSCALE:GREGORIAN
METHOD:PUBLISH
X-ORIGINAL-URL:http://www.lincolnvalleygolf.com
X-WR-CALDESC:Events for Lincoln Valley
REFRESH-INTERVAL;VALUE=DURATION:PT1H
X-Robots-Tag:noindex
X-PUBLISHED-TTL:PT1H
BEGIN:VTIMEZONE
TZID:America/Chicago
BEGIN:DAYLIGHT
TZOFFSETFROM:-0600
TZOFFSETTO:-0500
TZNAME:CDT
DTSTART:20250309T080000
END:DAYLIGHT
BEGIN:STANDARD
TZOFFSETFROM:-0500
TZOFFSETTO:-0600
TZNAME:CST
DTSTART:20251102T070000
END:STANDARD
BEGIN:DAYLIGHT
TZOFFSETFROM:-0600
TZOFFSETTO:-0500
TZNAME:CDT
DTSTART:20260308T080000
END:DAYLIGHT
BEGIN:STANDARD
TZOFFSETFROM:-0500
TZOFFSETTO:-0600
TZNAME:CST
DTSTART:20261101T070000
END:STANDARD
BEGIN:DAYLIGHT
TZOFFSETFROM:-0600
TZOFFSETTO:-0500
TZNAME:CDT
DTSTART:20270314T080000
END:DAYLIGHT
BEGIN:STANDARD
TZOFFSETFROM:-0500
TZOFFSETTO:-0600
TZNAME:CST
DTSTART:20271107T070000
END:STANDARD
END:VTIMEZONE
BEGIN:VEVENT
DTSTART;TZID=America/Chicago:20260505T080000
DTEND;TZID=America/Chicago:20260505T170000
DTSTAMP:20260424T204617
CREATED:20260128T022504Z
LAST-MODIFIED:20260128T022504Z
UID:45115-1777968000-1778000400@www.lincolnvalleygolf.com
SUMMARY:Boys Conference Golf - 9am - Course Closed
DESCRIPTION:Boys Conference Golf \nCourse Closed – 9am shotgun
URL:http://www.lincolnvalleygolf.com/event/boys-conference-golf-9am-course-closed/
END:VEVENT
END:VCALENDAR