BEGIN:VCALENDAR
VERSION:2.0
PRODID:-//Lincoln Valley - ECPv6.15.17.1//NONSGML v1.0//EN
CALSCALE:GREGORIAN
METHOD:PUBLISH
X-WR-CALNAME:Lincoln Valley
X-ORIGINAL-URL:http://www.lincolnvalleygolf.com
X-WR-CALDESC:Events for Lincoln Valley
REFRESH-INTERVAL;VALUE=DURATION:PT1H
X-Robots-Tag:noindex
X-PUBLISHED-TTL:PT1H
BEGIN:VTIMEZONE
TZID:America/Chicago
BEGIN:DAYLIGHT
TZOFFSETFROM:-0600
TZOFFSETTO:-0500
TZNAME:CDT
DTSTART:20200308T080000
END:DAYLIGHT
BEGIN:STANDARD
TZOFFSETFROM:-0500
TZOFFSETTO:-0600
TZNAME:CST
DTSTART:20201101T070000
END:STANDARD
BEGIN:DAYLIGHT
TZOFFSETFROM:-0600
TZOFFSETTO:-0500
TZNAME:CDT
DTSTART:20210314T080000
END:DAYLIGHT
BEGIN:STANDARD
TZOFFSETFROM:-0500
TZOFFSETTO:-0600
TZNAME:CST
DTSTART:20211107T070000
END:STANDARD
BEGIN:DAYLIGHT
TZOFFSETFROM:-0600
TZOFFSETTO:-0500
TZNAME:CDT
DTSTART:20220313T080000
END:DAYLIGHT
BEGIN:STANDARD
TZOFFSETFROM:-0500
TZOFFSETTO:-0600
TZNAME:CST
DTSTART:20221106T070000
END:STANDARD
END:VTIMEZONE
BEGIN:VEVENT
DTSTART;TZID=America/Chicago:20210310T183000
DTEND;TZID=America/Chicago:20210310T193000
DTSTAMP:20260419T144258
CREATED:20210115T195916Z
LAST-MODIFIED:20210115T195916Z
UID:18565-1615401000-1615404600@www.lincolnvalleygolf.com
SUMMARY:Board Meeting 6:30pm
DESCRIPTION:Board Meeting 6:30pm
URL:http://www.lincolnvalleygolf.com/event/board-meeting-630pm-2/
END:VEVENT
BEGIN:VEVENT
DTSTART;TZID=America/Chicago:20210220T160000
DTEND;TZID=America/Chicago:20210220T200000
DTSTAMP:20260419T144258
CREATED:20210115T195805Z
LAST-MODIFIED:20210125T214908Z
UID:18545-1613836800-1613851200@www.lincolnvalleygolf.com
SUMMARY:Pay Your Dues Night!
DESCRIPTION:Pay early & get a discount! \nStop out and pay the discounted  2021 Membership prices! \nFrom 4:00pm-8:00pm
URL:http://www.lincolnvalleygolf.com/event/pay-your-dues-party/
END:VEVENT
BEGIN:VEVENT
DTSTART;TZID=America/Chicago:20210206T140000
DTEND;TZID=America/Chicago:20210206T190000
DTSTAMP:20260419T144258
CREATED:20210131T225007Z
LAST-MODIFIED:20210131T225007Z
UID:18725-1612620000-1612638000@www.lincolnvalleygolf.com
SUMMARY:Wedding & Reception 2:00pm
DESCRIPTION:Congrats Ray Halverson & Andi Hood-Cline
URL:http://www.lincolnvalleygolf.com/event/wedding-reception-200pm/
END:VEVENT
BEGIN:VEVENT
DTSTART;TZID=America/Chicago:20210113T183000
DTEND;TZID=America/Chicago:20210113T193000
DTSTAMP:20260419T144258
CREATED:20210112T172252Z
LAST-MODIFIED:20210112T172252Z
UID:18505-1610562600-1610566200@www.lincolnvalleygolf.com
SUMMARY:Board Meeting 6:30pm
DESCRIPTION:
URL:http://www.lincolnvalleygolf.com/event/board-meeting-630pm/
END:VEVENT
END:VCALENDAR