BEGIN:VCALENDAR
VERSION:2.0
PRODID:-//Lincoln Valley - ECPv6.15.17.1//NONSGML v1.0//EN
CALSCALE:GREGORIAN
METHOD:PUBLISH
X-ORIGINAL-URL:http://www.lincolnvalleygolf.com
X-WR-CALDESC:Events for Lincoln Valley
REFRESH-INTERVAL;VALUE=DURATION:PT1H
X-Robots-Tag:noindex
X-PUBLISHED-TTL:PT1H
BEGIN:VTIMEZONE
TZID:America/Chicago
BEGIN:DAYLIGHT
TZOFFSETFROM:-0600
TZOFFSETTO:-0500
TZNAME:CDT
DTSTART:20200308T080000
END:DAYLIGHT
BEGIN:STANDARD
TZOFFSETFROM:-0500
TZOFFSETTO:-0600
TZNAME:CST
DTSTART:20201101T070000
END:STANDARD
BEGIN:DAYLIGHT
TZOFFSETFROM:-0600
TZOFFSETTO:-0500
TZNAME:CDT
DTSTART:20210314T080000
END:DAYLIGHT
BEGIN:STANDARD
TZOFFSETFROM:-0500
TZOFFSETTO:-0600
TZNAME:CST
DTSTART:20211107T070000
END:STANDARD
BEGIN:DAYLIGHT
TZOFFSETFROM:-0600
TZOFFSETTO:-0500
TZNAME:CDT
DTSTART:20220313T080000
END:DAYLIGHT
BEGIN:STANDARD
TZOFFSETFROM:-0500
TZOFFSETTO:-0600
TZNAME:CST
DTSTART:20221106T070000
END:STANDARD
END:VTIMEZONE
BEGIN:VEVENT
DTSTART;TZID=America/Chicago:20210701T170000
DTEND;TZID=America/Chicago:20210701T210000
DTSTAMP:20260420T185142
CREATED:20210414T001945Z
LAST-MODIFIED:20210414T001949Z
UID:20485-1625158800-1625173200@www.lincolnvalleygolf.com
SUMMARY:Men’s Night 5:30 Course Closed 5:00
DESCRIPTION:
URL:http://www.lincolnvalleygolf.com/event/mens-night-530-course-closed-500-9/
END:VEVENT
BEGIN:VEVENT
DTSTART;TZID=America/Chicago:20210708T170000
DTEND;TZID=America/Chicago:20210708T210000
DTSTAMP:20260420T185142
CREATED:20210414T002159Z
LAST-MODIFIED:20210414T002206Z
UID:20505-1625763600-1625778000@www.lincolnvalleygolf.com
SUMMARY:Men’s Night 5:30 Course Closed 5:00
DESCRIPTION:
URL:http://www.lincolnvalleygolf.com/event/mens-night-530-course-closed-500-10/
END:VEVENT
BEGIN:VEVENT
DTSTART;TZID=America/Chicago:20210710T080000
DTEND;TZID=America/Chicago:20210710T170000
DTSTAMP:20260420T185142
CREATED:20210306T221906Z
LAST-MODIFIED:20210306T221906Z
UID:19335-1625904000-1625936400@www.lincolnvalleygolf.com
SUMMARY:Club Qualifying for Club Championship- (course is Open\, you make a tee time)
DESCRIPTION:You must have a tee time.  Rules posted in clubhouse. \n 
URL:http://www.lincolnvalleygolf.com/event/club-qualifying-for-club-championship-course-is-open-you-make-a-tee-time/
END:VEVENT
BEGIN:VEVENT
DTSTART;TZID=America/Chicago:20210710T160000
DTEND;TZID=America/Chicago:20210710T233000
DTSTAMP:20260420T185142
CREATED:20210401T210424Z
LAST-MODIFIED:20210401T210424Z
UID:19815-1625932800-1625959800@www.lincolnvalleygolf.com
SUMMARY:Wedding Reception
DESCRIPTION:Congrats Allie Erickson & Blake Ihde!
URL:http://www.lincolnvalleygolf.com/event/wedding-reception-2/
END:VEVENT
BEGIN:VEVENT
DTSTART;TZID=America/Chicago:20210711T090000
DTEND;TZID=America/Chicago:20210711T170000
DTSTAMP:20260420T185142
CREATED:20210306T221454Z
LAST-MODIFIED:20210306T221454Z
UID:19315-1625994000-1626022800@www.lincolnvalleygolf.com
SUMMARY:Club Championship
DESCRIPTION:Club Championship (Members only) \n9am shotgun start \nmust play qualifying round on Saturday\, July 10th (make tee time)
URL:http://www.lincolnvalleygolf.com/event/club-championship/
END:VEVENT
BEGIN:VEVENT
DTSTART;TZID=America/Chicago:20210713T170000
DTEND;TZID=America/Chicago:20210713T210000
DTSTAMP:20260420T185142
CREATED:20210615T203927Z
LAST-MODIFIED:20210615T203927Z
UID:21195-1626195600-1626210000@www.lincolnvalleygolf.com
SUMMARY:Men's League
DESCRIPTION:Course closed at 5pm for a Men’s League Night
URL:http://www.lincolnvalleygolf.com/event/mens-league/
END:VEVENT
BEGIN:VEVENT
DTSTART;TZID=America/Chicago:20210715T170000
DTEND;TZID=America/Chicago:20210715T210000
DTSTAMP:20260420T185142
CREATED:20210503T232907Z
LAST-MODIFIED:20210503T232912Z
UID:20595-1626368400-1626382800@www.lincolnvalleygolf.com
SUMMARY:Men’s Night 5:30 Course Closed 5:00
DESCRIPTION:
URL:http://www.lincolnvalleygolf.com/event/mens-night-530-course-closed-500-11/
END:VEVENT
BEGIN:VEVENT
DTSTART;TZID=America/Chicago:20210721T080000
DTEND;TZID=America/Chicago:20210721T170000
DTSTAMP:20260420T185142
CREATED:20210615T204134Z
LAST-MODIFIED:20210615T204134Z
UID:21215-1626854400-1626886800@www.lincolnvalleygolf.com
SUMMARY:Ag Safety Outing
DESCRIPTION:Ag Co-Op Safety Scholarship Outing \nCourse Closed
URL:http://www.lincolnvalleygolf.com/event/ag-safety-outing/
END:VEVENT
BEGIN:VEVENT
DTSTART;TZID=America/Chicago:20210722T170000
DTEND;TZID=America/Chicago:20210722T210000
DTSTAMP:20260420T185142
CREATED:20210503T232953Z
LAST-MODIFIED:20210503T232957Z
UID:20615-1626973200-1626987600@www.lincolnvalleygolf.com
SUMMARY:Men’s Night 5:30 Course Closed 5:00
DESCRIPTION:
URL:http://www.lincolnvalleygolf.com/event/mens-night-530-course-closed-500-12/
END:VEVENT
BEGIN:VEVENT
DTSTART;TZID=America/Chicago:20210726T083000
DTEND;TZID=America/Chicago:20210726T130000
DTSTAMP:20260420T185142
CREATED:20210306T222310Z
LAST-MODIFIED:20210306T222310Z
UID:19355-1627288200-1627304400@www.lincolnvalleygolf.com
SUMMARY:Central Iowa Seniors
DESCRIPTION:Central Iowa Seniors \n8:30am shotgun (course closed until 1:00pm)
URL:http://www.lincolnvalleygolf.com/event/central-iowa-seniors-2/
END:VEVENT
BEGIN:VEVENT
DTSTART;TZID=America/Chicago:20210727T120000
DTEND;TZID=America/Chicago:20210727T190000
DTSTAMP:20260420T185142
CREATED:20210401T193144Z
LAST-MODIFIED:20210401T193144Z
UID:19715-1627387200-1627412400@www.lincolnvalleygolf.com
SUMMARY:Coors Light Stag
DESCRIPTION:Men’s Association Coors Light Stag!! \n4 man best shot ~ 1:00pm shotgun start \nregistration starts at 12pm in the ballroom \nCourse Closes at Noon
URL:http://www.lincolnvalleygolf.com/event/coors-light-stag/
END:VEVENT
BEGIN:VEVENT
DTSTART;TZID=America/Chicago:20210728T180000
DTEND;TZID=America/Chicago:20210728T210000
DTSTAMP:20260420T185142
CREATED:20210615T203347Z
LAST-MODIFIED:20210727T021150Z
UID:21175-1627495200-1627506000@www.lincolnvalleygolf.com
SUMMARY:Open 4 Gal Best Shot
DESCRIPTION:6 pm shotgun start \nBack 9 closed.  Open 4 gal best shot
URL:http://www.lincolnvalleygolf.com/event/open-4-gal-best-shot/
END:VEVENT
BEGIN:VEVENT
DTSTART;TZID=America/Chicago:20210729T170000
DTEND;TZID=America/Chicago:20210729T210000
DTSTAMP:20260420T185142
CREATED:20210503T233038Z
LAST-MODIFIED:20210503T233043Z
UID:20635-1627578000-1627592400@www.lincolnvalleygolf.com
SUMMARY:Men’s Night 5:30 Course Closed 5:00
DESCRIPTION:
URL:http://www.lincolnvalleygolf.com/event/mens-night-530-course-closed-500-13/
END:VEVENT
BEGIN:VEVENT
DTSTART;TZID=America/Chicago:20210730T080000
DTEND;TZID=America/Chicago:20210730T170000
DTSTAMP:20260420T185142
CREATED:20210401T210605Z
LAST-MODIFIED:20210401T210605Z
UID:19835-1627632000-1627664400@www.lincolnvalleygolf.com
SUMMARY:Key Cooperative Outing
DESCRIPTION:Key Cooperative Outing \n(course closed)
URL:http://www.lincolnvalleygolf.com/event/key-cooperative-outing/
END:VEVENT
BEGIN:VEVENT
DTSTART;TZID=America/Chicago:20210731T080000
DTEND;TZID=America/Chicago:20210731T170000
DTSTAMP:20260420T185142
CREATED:20210401T210712Z
LAST-MODIFIED:20210401T210712Z
UID:19855-1627718400-1627750800@www.lincolnvalleygolf.com
SUMMARY:Acre Tournament
DESCRIPTION:
URL:http://www.lincolnvalleygolf.com/event/acre-tournament/
END:VEVENT
END:VCALENDAR