BEGIN:VCALENDAR
VERSION:2.0
PRODID:-//Lincoln Valley - ECPv6.15.17.1//NONSGML v1.0//EN
CALSCALE:GREGORIAN
METHOD:PUBLISH
X-WR-CALNAME:Lincoln Valley
X-ORIGINAL-URL:http://www.lincolnvalleygolf.com
X-WR-CALDESC:Events for Lincoln Valley
REFRESH-INTERVAL;VALUE=DURATION:PT1H
X-Robots-Tag:noindex
X-PUBLISHED-TTL:PT1H
BEGIN:VTIMEZONE
TZID:America/Chicago
BEGIN:DAYLIGHT
TZOFFSETFROM:-0600
TZOFFSETTO:-0500
TZNAME:CDT
DTSTART:20200308T080000
END:DAYLIGHT
BEGIN:STANDARD
TZOFFSETFROM:-0500
TZOFFSETTO:-0600
TZNAME:CST
DTSTART:20201101T070000
END:STANDARD
BEGIN:DAYLIGHT
TZOFFSETFROM:-0600
TZOFFSETTO:-0500
TZNAME:CDT
DTSTART:20210314T080000
END:DAYLIGHT
BEGIN:STANDARD
TZOFFSETFROM:-0500
TZOFFSETTO:-0600
TZNAME:CST
DTSTART:20211107T070000
END:STANDARD
BEGIN:DAYLIGHT
TZOFFSETFROM:-0600
TZOFFSETTO:-0500
TZNAME:CDT
DTSTART:20220313T080000
END:DAYLIGHT
BEGIN:STANDARD
TZOFFSETFROM:-0500
TZOFFSETTO:-0600
TZNAME:CST
DTSTART:20221106T070000
END:STANDARD
END:VTIMEZONE
BEGIN:VEVENT
DTSTART;TZID=America/Chicago:20210805T170000
DTEND;TZID=America/Chicago:20210805T210000
DTSTAMP:20260420T171604
CREATED:20210503T233255Z
LAST-MODIFIED:20210503T233300Z
UID:20655-1628182800-1628197200@www.lincolnvalleygolf.com
SUMMARY:Men’s Night 5:30 Course Closed 5:00
DESCRIPTION:
URL:http://www.lincolnvalleygolf.com/event/mens-night-530-course-closed-500-14/
END:VEVENT
BEGIN:VEVENT
DTSTART;TZID=America/Chicago:20210807T160000
DTEND;TZID=America/Chicago:20210807T233000
DTSTAMP:20260420T171604
CREATED:20210401T213350Z
LAST-MODIFIED:20210401T213350Z
UID:19895-1628352000-1628379000@www.lincolnvalleygolf.com
SUMMARY:Wedding Reception
DESCRIPTION:Congrats Brittney Selvog & Presley Tucker
URL:http://www.lincolnvalleygolf.com/event/wedding-reception-3/
END:VEVENT
BEGIN:VEVENT
DTSTART;TZID=America/Chicago:20210811T190000
DTEND;TZID=America/Chicago:20210811T210000
DTSTAMP:20260420T171604
CREATED:20210727T021327Z
LAST-MODIFIED:20210727T021327Z
UID:21685-1628708400-1628715600@www.lincolnvalleygolf.com
SUMMARY:Board Meeting  7pm
DESCRIPTION:
URL:http://www.lincolnvalleygolf.com/event/board-meeting-7pm/
END:VEVENT
BEGIN:VEVENT
DTSTART;TZID=America/Chicago:20210812T170000
DTEND;TZID=America/Chicago:20210812T210000
DTSTAMP:20260420T171604
CREATED:20210503T233344Z
LAST-MODIFIED:20210503T233348Z
UID:20675-1628787600-1628802000@www.lincolnvalleygolf.com
SUMMARY:Men’s Night 5:30 Course Closed 5:00
DESCRIPTION:
URL:http://www.lincolnvalleygolf.com/event/mens-night-530-course-closed-500-15/
END:VEVENT
BEGIN:VEVENT
DTSTART;TZID=America/Chicago:20210815T090000
DTEND;TZID=America/Chicago:20210815T170000
DTSTAMP:20260420T171604
CREATED:20210401T215628Z
LAST-MODIFIED:20210401T215628Z
UID:19935-1629018000-1629046800@www.lincolnvalleygolf.com
SUMMARY:CLUBHOUSE DIVIDED!!
DESCRIPTION:A great fundraiser for the course and a Great Rivalry Tournament! \n4 person best shot ~ 9am shotgun ~ course closed \nHawks VS Cyclones
URL:http://www.lincolnvalleygolf.com/event/clubhouse-divided/
END:VEVENT
BEGIN:VEVENT
DTSTART;TZID=America/Chicago:20210817T170000
DTEND;TZID=America/Chicago:20210817T210000
DTSTAMP:20260420T171604
CREATED:20210503T233429Z
LAST-MODIFIED:20210503T233433Z
UID:20695-1629219600-1629234000@www.lincolnvalleygolf.com
SUMMARY:Men’s Night 5:30 Course Closed 5:00
DESCRIPTION:
URL:http://www.lincolnvalleygolf.com/event/mens-night-530-course-closed-500-16/
END:VEVENT
BEGIN:VEVENT
DTSTART;TZID=America/Chicago:20210819T170000
DTEND;TZID=America/Chicago:20210819T210000
DTSTAMP:20260420T171604
CREATED:20210503T233610Z
LAST-MODIFIED:20210503T233613Z
UID:20715-1629392400-1629406800@www.lincolnvalleygolf.com
SUMMARY:Men’s Night 5:30 Course Closed 5:00
DESCRIPTION:
URL:http://www.lincolnvalleygolf.com/event/mens-night-530-course-closed-500-17/
END:VEVENT
BEGIN:VEVENT
DTSTART;TZID=America/Chicago:20210821T090000
DTEND;TZID=America/Chicago:20210821T190000
DTSTAMP:20260420T171604
CREATED:20210306T222656Z
LAST-MODIFIED:20210306T222656Z
UID:19375-1629536400-1629572400@www.lincolnvalleygolf.com
SUMMARY:Clark's Bar Outing
DESCRIPTION:Course Closed \n9am shotgun
URL:http://www.lincolnvalleygolf.com/event/clarks-bar-outing/
END:VEVENT
BEGIN:VEVENT
DTSTART;TZID=America/Chicago:20210826T170000
DTEND;TZID=America/Chicago:20210826T210000
DTSTAMP:20260420T171604
CREATED:20210503T233720Z
LAST-MODIFIED:20210802T230235Z
UID:20735-1629997200-1630011600@www.lincolnvalleygolf.com
SUMMARY:Men’s League Night 5:30 Course Closed 5:00
DESCRIPTION:
URL:http://www.lincolnvalleygolf.com/event/last-mens-league-night-530-course-closed-500/
END:VEVENT
BEGIN:VEVENT
DTSTART;TZID=America/Chicago:20210828T090000
DTEND;TZID=America/Chicago:20210828T190000
DTSTAMP:20260420T171604
CREATED:20210306T222819Z
LAST-MODIFIED:20210306T222819Z
UID:19395-1630141200-1630177200@www.lincolnvalleygolf.com
SUMMARY:Mason Stephens Memorial Outing
DESCRIPTION:Course closed \n9am shotgun
URL:http://www.lincolnvalleygolf.com/event/mason-stephens-memorial-outing/
END:VEVENT
BEGIN:VEVENT
DTSTART;TZID=America/Chicago:20210828T150000
DTEND;TZID=America/Chicago:20210828T210000
DTSTAMP:20260420T171604
CREATED:20210825T205701Z
LAST-MODIFIED:20210825T205701Z
UID:22065-1630162800-1630184400@www.lincolnvalleygolf.com
SUMMARY:Front 9 Closed
DESCRIPTION:FANN BASH \nFront 9 closed 3pm
URL:http://www.lincolnvalleygolf.com/event/front-9-closed/
END:VEVENT
BEGIN:VEVENT
DTSTART;TZID=America/Chicago:20210831T093000
DTEND;TZID=America/Chicago:20210831T110000
DTSTAMP:20260420T171604
CREATED:20210306T224501Z
LAST-MODIFIED:20210306T224501Z
UID:19415-1630402200-1630407600@www.lincolnvalleygolf.com
SUMMARY:Saydel Group
DESCRIPTION:Busy morning\, must have a tee time
URL:http://www.lincolnvalleygolf.com/event/saydel-group/
END:VEVENT
BEGIN:VEVENT
DTSTART;TZID=America/Chicago:20210831T170000
DTEND;TZID=America/Chicago:20210831T203000
DTSTAMP:20260420T171604
CREATED:20210802T230404Z
LAST-MODIFIED:20210802T230404Z
UID:21765-1630429200-1630441800@www.lincolnvalleygolf.com
SUMMARY:Last Men’s League Night 5:30 Course Closed 5:00
DESCRIPTION:
URL:http://www.lincolnvalleygolf.com/event/last-mens-league-night-530-course-closed-500-2/
END:VEVENT
END:VCALENDAR