BEGIN:VCALENDAR
VERSION:2.0
PRODID:-//Lincoln Valley - ECPv6.15.17.1//NONSGML v1.0//EN
CALSCALE:GREGORIAN
METHOD:PUBLISH
X-WR-CALNAME:Lincoln Valley
X-ORIGINAL-URL:http://www.lincolnvalleygolf.com
X-WR-CALDESC:Events for Lincoln Valley
REFRESH-INTERVAL;VALUE=DURATION:PT1H
X-Robots-Tag:noindex
X-PUBLISHED-TTL:PT1H
BEGIN:VTIMEZONE
TZID:America/Chicago
BEGIN:DAYLIGHT
TZOFFSETFROM:-0600
TZOFFSETTO:-0500
TZNAME:CDT
DTSTART:20200308T080000
END:DAYLIGHT
BEGIN:STANDARD
TZOFFSETFROM:-0500
TZOFFSETTO:-0600
TZNAME:CST
DTSTART:20201101T070000
END:STANDARD
BEGIN:DAYLIGHT
TZOFFSETFROM:-0600
TZOFFSETTO:-0500
TZNAME:CDT
DTSTART:20210314T080000
END:DAYLIGHT
BEGIN:STANDARD
TZOFFSETFROM:-0500
TZOFFSETTO:-0600
TZNAME:CST
DTSTART:20211107T070000
END:STANDARD
BEGIN:DAYLIGHT
TZOFFSETFROM:-0600
TZOFFSETTO:-0500
TZNAME:CDT
DTSTART:20220313T080000
END:DAYLIGHT
BEGIN:STANDARD
TZOFFSETFROM:-0500
TZOFFSETTO:-0600
TZNAME:CST
DTSTART:20221106T070000
END:STANDARD
END:VTIMEZONE
BEGIN:VEVENT
DTSTART;TZID=America/Chicago:20211002T160000
DTEND;TZID=America/Chicago:20211002T233000
DTSTAMP:20260420T140524
CREATED:20210401T220226Z
LAST-MODIFIED:20210401T220226Z
UID:19995-1633190400-1633217400@www.lincolnvalleygolf.com
SUMMARY:Wedding Reception
DESCRIPTION:Congrats Amber French & Trevor Slack!!
URL:http://www.lincolnvalleygolf.com/event/wedding-reception-4/
END:VEVENT
BEGIN:VEVENT
DTSTART;TZID=America/Chicago:20211016T140000
DTEND;TZID=America/Chicago:20211016T233000
DTSTAMP:20260420T140524
CREATED:20210401T220340Z
LAST-MODIFIED:20210913T174517Z
UID:20015-1634392800-1634427000@www.lincolnvalleygolf.com
SUMMARY:Wedding & Reception
DESCRIPTION:Congrats Heidi Whitmore & Devin Weishaubt!!  Best Wishes!!
URL:http://www.lincolnvalleygolf.com/event/wedding-reception-5/
END:VEVENT
BEGIN:VEVENT
DTSTART;TZID=America/Chicago:20211023T100000
DTEND;TZID=America/Chicago:20211023T180000
DTSTAMP:20260420T140524
CREATED:20210615T204733Z
LAST-MODIFIED:20210615T204733Z
UID:21295-1634983200-1635012000@www.lincolnvalleygolf.com
SUMMARY:Chili Cook Off
DESCRIPTION:11am shotgun \n4 person best shot \nLV Chili Cook off!!
URL:http://www.lincolnvalleygolf.com/event/chili-cook-off/
END:VEVENT
BEGIN:VEVENT
DTSTART;TZID=America/Chicago:20211031T110000
DTEND;TZID=America/Chicago:20211031T170000
DTSTAMP:20260420T140524
CREATED:20210615T204830Z
LAST-MODIFIED:20210615T204830Z
UID:21315-1635678000-1635699600@www.lincolnvalleygolf.com
SUMMARY:Blue Ball
DESCRIPTION:2 person best shot \nBlue Ball!!
URL:http://www.lincolnvalleygolf.com/event/blue-ball/
END:VEVENT
END:VCALENDAR