BEGIN:VCALENDAR
VERSION:2.0
PRODID:-//Lincoln Valley - ECPv6.15.17.1//NONSGML v1.0//EN
CALSCALE:GREGORIAN
METHOD:PUBLISH
X-ORIGINAL-URL:http://www.lincolnvalleygolf.com
X-WR-CALDESC:Events for Lincoln Valley
REFRESH-INTERVAL;VALUE=DURATION:PT1H
X-Robots-Tag:noindex
X-PUBLISHED-TTL:PT1H
BEGIN:VTIMEZONE
TZID:America/Chicago
BEGIN:DAYLIGHT
TZOFFSETFROM:-0600
TZOFFSETTO:-0500
TZNAME:CDT
DTSTART:20210314T080000
END:DAYLIGHT
BEGIN:STANDARD
TZOFFSETFROM:-0500
TZOFFSETTO:-0600
TZNAME:CST
DTSTART:20211107T070000
END:STANDARD
BEGIN:DAYLIGHT
TZOFFSETFROM:-0600
TZOFFSETTO:-0500
TZNAME:CDT
DTSTART:20220313T080000
END:DAYLIGHT
BEGIN:STANDARD
TZOFFSETFROM:-0500
TZOFFSETTO:-0600
TZNAME:CST
DTSTART:20221106T070000
END:STANDARD
BEGIN:DAYLIGHT
TZOFFSETFROM:-0600
TZOFFSETTO:-0500
TZNAME:CDT
DTSTART:20230312T080000
END:DAYLIGHT
BEGIN:STANDARD
TZOFFSETFROM:-0500
TZOFFSETTO:-0600
TZNAME:CST
DTSTART:20231105T070000
END:STANDARD
END:VTIMEZONE
BEGIN:VEVENT
DTSTART;TZID=America/Chicago:20220202T193000
DTEND;TZID=America/Chicago:20220202T213000
DTSTAMP:20260420T072802
CREATED:20220105T202259Z
LAST-MODIFIED:20220105T202259Z
UID:22995-1643830200-1643837400@www.lincolnvalleygolf.com
SUMMARY:Pool League 7:30pm
DESCRIPTION:
URL:http://www.lincolnvalleygolf.com/event/pool-league-730pm-5/
END:VEVENT
BEGIN:VEVENT
DTSTART;TZID=America/Chicago:20220209T193000
DTEND;TZID=America/Chicago:20220209T213000
DTSTAMP:20260420T072802
CREATED:20220105T201002Z
LAST-MODIFIED:20220105T201028Z
UID:22845-1644435000-1644442200@www.lincolnvalleygolf.com
SUMMARY:Pool League 7:30pm
DESCRIPTION:
URL:http://www.lincolnvalleygolf.com/event/pool-league-730pm/
END:VEVENT
BEGIN:VEVENT
DTSTART;TZID=America/Chicago:20220210T080000
DTEND;TZID=America/Chicago:20220215T220000
DTSTAMP:20260420T072802
CREATED:20220126T202030Z
LAST-MODIFIED:20220126T202030Z
UID:23175-1644480000-1644962400@www.lincolnvalleygolf.com
SUMMARY:Clubhouse Will Be Closed for Electrical Work
DESCRIPTION:Clubhouse will be closed starting Thursday Feb 10th\, 2022 – Tuesday February 15th\, 2022
URL:http://www.lincolnvalleygolf.com/event/clubhouse-will-be-closed-for-electrical-work/
END:VEVENT
BEGIN:VEVENT
DTSTART;TZID=America/Chicago:20220221T080000
DTEND;TZID=America/Chicago:20220221T160000
DTSTAMP:20260420T072802
CREATED:20220105T200749Z
LAST-MODIFIED:20220105T200749Z
UID:22825-1645430400-1645459200@www.lincolnvalleygolf.com
SUMMARY:Member's 1st Meeting
DESCRIPTION:Ballroom rented from 8am-4pm
URL:http://www.lincolnvalleygolf.com/event/members-1st-meeting/
END:VEVENT
BEGIN:VEVENT
DTSTART;TZID=America/Chicago:20220226T140000
DTEND;TZID=America/Chicago:20220226T190000
DTSTAMP:20260420T072802
CREATED:20220105T200518Z
LAST-MODIFIED:20220105T200518Z
UID:22805-1645884000-1645902000@www.lincolnvalleygolf.com
SUMMARY:"Pay Your Dues Party!!"
DESCRIPTION:Calling all current Lincoln Valley Members & anyone wanting to join for the 2022 season!!   Please stop out and get the best Membership Rate of 2022!! \nWe will be here taking Memberships from 2pm-7pm!!
URL:http://www.lincolnvalleygolf.com/event/pay-your-dues-party-2/
END:VEVENT
END:VCALENDAR