BEGIN:VCALENDAR
VERSION:2.0
PRODID:-//Lincoln Valley - ECPv6.15.17.1//NONSGML v1.0//EN
CALSCALE:GREGORIAN
METHOD:PUBLISH
X-WR-CALNAME:Lincoln Valley
X-ORIGINAL-URL:http://www.lincolnvalleygolf.com
X-WR-CALDESC:Events for Lincoln Valley
REFRESH-INTERVAL;VALUE=DURATION:PT1H
X-Robots-Tag:noindex
X-PUBLISHED-TTL:PT1H
BEGIN:VTIMEZONE
TZID:America/Chicago
BEGIN:DAYLIGHT
TZOFFSETFROM:-0600
TZOFFSETTO:-0500
TZNAME:CDT
DTSTART:20210314T080000
END:DAYLIGHT
BEGIN:STANDARD
TZOFFSETFROM:-0500
TZOFFSETTO:-0600
TZNAME:CST
DTSTART:20211107T070000
END:STANDARD
BEGIN:DAYLIGHT
TZOFFSETFROM:-0600
TZOFFSETTO:-0500
TZNAME:CDT
DTSTART:20220313T080000
END:DAYLIGHT
BEGIN:STANDARD
TZOFFSETFROM:-0500
TZOFFSETTO:-0600
TZNAME:CST
DTSTART:20221106T070000
END:STANDARD
BEGIN:DAYLIGHT
TZOFFSETFROM:-0600
TZOFFSETTO:-0500
TZNAME:CDT
DTSTART:20230312T080000
END:DAYLIGHT
BEGIN:STANDARD
TZOFFSETFROM:-0500
TZOFFSETTO:-0600
TZNAME:CST
DTSTART:20231105T070000
END:STANDARD
END:VTIMEZONE
BEGIN:VEVENT
DTSTART;TZID=America/Chicago:20221001T100000
DTEND;TZID=America/Chicago:20221001T170000
DTSTAMP:20260419T164554
CREATED:20220920T181627Z
LAST-MODIFIED:20220920T181627Z
UID:26695-1664618400-1664643600@www.lincolnvalleygolf.com
SUMMARY:Baccam Open -10am (course closed)
DESCRIPTION:This is an individual tournament.  You will play your own ball for 18 holes. Then a blind draw at the end for a combined score.
URL:http://www.lincolnvalleygolf.com/event/baccam-open-10am-course-closed/
END:VEVENT
BEGIN:VEVENT
DTSTART;TZID=America/Chicago:20221002T110000
DTEND;TZID=America/Chicago:20221002T170000
DTSTAMP:20260419T164554
CREATED:20220920T181744Z
LAST-MODIFIED:20220920T181744Z
UID:26715-1664708400-1664730000@www.lincolnvalleygolf.com
SUMMARY:Blue Ball Open - 11am (course closed)
DESCRIPTION:2- person best shot \n11am shotgun start –
URL:http://www.lincolnvalleygolf.com/event/blue-ball-open-11am-course-closed/
END:VEVENT
BEGIN:VEVENT
DTSTART;TZID=America/Chicago:20221004T080000
DTEND;TZID=America/Chicago:20221004T110000
DTSTAMP:20260419T164554
CREATED:20220920T182000Z
LAST-MODIFIED:20220920T182000Z
UID:26755-1664870400-1664881200@www.lincolnvalleygolf.com
SUMMARY:Saydel Group
DESCRIPTION:Bust Morning. \nYou must have a tee time!
URL:http://www.lincolnvalleygolf.com/event/saydel-group-9/
END:VEVENT
BEGIN:VEVENT
DTSTART;TZID=America/Chicago:20221009T100000
DTEND;TZID=America/Chicago:20221009T140000
DTSTAMP:20260419T164554
CREATED:20220920T182104Z
LAST-MODIFIED:20220920T182104Z
UID:26775-1665309600-1665324000@www.lincolnvalleygolf.com
SUMMARY:Wedding Reception Brunch!
DESCRIPTION:Brunch to celebrate! \n10am-2pm
URL:http://www.lincolnvalleygolf.com/event/wedding-reception-brunch/
END:VEVENT
BEGIN:VEVENT
DTSTART;TZID=America/Chicago:20221010T150000
DTEND;TZID=America/Chicago:20221010T200000
DTSTAMP:20260419T164554
CREATED:20220920T182208Z
LAST-MODIFIED:20220920T182208Z
UID:26795-1665414000-1665432000@www.lincolnvalleygolf.com
SUMMARY:West Marshall Conference Cross Country Meet -
DESCRIPTION:Course Closes at 3pm
URL:http://www.lincolnvalleygolf.com/event/west-marshall-conference-cross-country-meet/
END:VEVENT
BEGIN:VEVENT
DTSTART;TZID=America/Chicago:20221023T130000
DTEND;TZID=America/Chicago:20221023T170000
DTSTAMP:20260419T164554
CREATED:20220920T182442Z
LAST-MODIFIED:20220920T182442Z
UID:26835-1666530000-1666544400@www.lincolnvalleygolf.com
SUMMARY:Homeowners Meeting
DESCRIPTION:1:00pm in ballroom
URL:http://www.lincolnvalleygolf.com/event/homeowners-meeting/
END:VEVENT
BEGIN:VEVENT
DTSTART;TZID=America/Chicago:20221029T140000
DTEND;TZID=America/Chicago:20221029T220000
DTSTAMP:20260419T164554
CREATED:20220920T182306Z
LAST-MODIFIED:20221025T180035Z
UID:26815-1667052000-1667080800@www.lincolnvalleygolf.com
SUMMARY:Wedding Reception
DESCRIPTION:Congrats Jasmine & Ridge Nennig!
URL:http://www.lincolnvalleygolf.com/event/wedding-reception-8/
END:VEVENT
END:VCALENDAR