BEGIN:VCALENDAR
VERSION:2.0
PRODID:-//Lincoln Valley - ECPv6.15.17.1//NONSGML v1.0//EN
CALSCALE:GREGORIAN
METHOD:PUBLISH
X-ORIGINAL-URL:http://www.lincolnvalleygolf.com
X-WR-CALDESC:Events for Lincoln Valley
REFRESH-INTERVAL;VALUE=DURATION:PT1H
X-Robots-Tag:noindex
X-PUBLISHED-TTL:PT1H
BEGIN:VTIMEZONE
TZID:America/Chicago
BEGIN:DAYLIGHT
TZOFFSETFROM:-0600
TZOFFSETTO:-0500
TZNAME:CDT
DTSTART:20210314T080000
END:DAYLIGHT
BEGIN:STANDARD
TZOFFSETFROM:-0500
TZOFFSETTO:-0600
TZNAME:CST
DTSTART:20211107T070000
END:STANDARD
BEGIN:DAYLIGHT
TZOFFSETFROM:-0600
TZOFFSETTO:-0500
TZNAME:CDT
DTSTART:20220313T080000
END:DAYLIGHT
BEGIN:STANDARD
TZOFFSETFROM:-0500
TZOFFSETTO:-0600
TZNAME:CST
DTSTART:20221106T070000
END:STANDARD
BEGIN:DAYLIGHT
TZOFFSETFROM:-0600
TZOFFSETTO:-0500
TZNAME:CDT
DTSTART:20230312T080000
END:DAYLIGHT
BEGIN:STANDARD
TZOFFSETFROM:-0500
TZOFFSETTO:-0600
TZNAME:CST
DTSTART:20231105T070000
END:STANDARD
END:VTIMEZONE
BEGIN:VEVENT
DTSTART;TZID=America/Chicago:20221104T170000
DTEND;TZID=America/Chicago:20221104T203000
DTSTAMP:20260419T151149
CREATED:20220920T182617Z
LAST-MODIFIED:20220920T182617Z
UID:26855-1667581200-1667593800@www.lincolnvalleygolf.com
SUMMARY:Wedding Rehearsal Dinner
DESCRIPTION:
URL:http://www.lincolnvalleygolf.com/event/wedding-rehearsal-dinner/
END:VEVENT
BEGIN:VEVENT
DTSTART;TZID=America/Chicago:20221109T193000
DTEND;TZID=America/Chicago:20221109T213000
DTSTAMP:20260419T151149
CREATED:20221108T191551Z
LAST-MODIFIED:20221108T191551Z
UID:27335-1668022200-1668029400@www.lincolnvalleygolf.com
SUMMARY:Pool League
DESCRIPTION:Pool League – Starts @ 7:30pm
URL:http://www.lincolnvalleygolf.com/event/pool-league/
END:VEVENT
BEGIN:VEVENT
DTSTART;TZID=America/Chicago:20221110T100000
DTEND;TZID=America/Chicago:20221110T163000
DTSTAMP:20260419T151149
CREATED:20221108T190917Z
LAST-MODIFIED:20221108T190917Z
UID:27275-1668074400-1668097800@www.lincolnvalleygolf.com
SUMMARY:Last Day of Golf for the 2022 Season!
DESCRIPTION:Thanks For a great year!!
URL:http://www.lincolnvalleygolf.com/event/last-day-of-golf-for-the-2022-season/
END:VEVENT
BEGIN:VEVENT
DTSTART;TZID=America/Chicago:20221110T183000
DTEND;TZID=America/Chicago:20221110T210000
DTSTAMP:20260419T151149
CREATED:20221108T191643Z
LAST-MODIFIED:20221108T191643Z
UID:27355-1668105000-1668114000@www.lincolnvalleygolf.com
SUMMARY:Pool League - 6:30pm
DESCRIPTION:Pool League – 6:30pm
URL:http://www.lincolnvalleygolf.com/event/pool-league-630pm-2/
END:VEVENT
BEGIN:VEVENT
DTSTART;TZID=America/Chicago:20221111T170000
DTEND;TZID=America/Chicago:20221111T213000
DTSTAMP:20260419T151149
CREATED:20220920T182659Z
LAST-MODIFIED:20220920T182659Z
UID:26875-1668186000-1668202200@www.lincolnvalleygolf.com
SUMMARY:Ballroom Booked
DESCRIPTION:
URL:http://www.lincolnvalleygolf.com/event/ballroom-booked/
END:VEVENT
BEGIN:VEVENT
DTSTART;TZID=America/Chicago:20221112T110000
DTEND;TZID=America/Chicago:20221112T170000
DTSTAMP:20260419T151149
CREATED:20221108T190300Z
LAST-MODIFIED:20221108T190300Z
UID:27235-1668250800-1668272400@www.lincolnvalleygolf.com
SUMMARY:Clubhouse Opens @ 11am
DESCRIPTION:
URL:http://www.lincolnvalleygolf.com/event/clubhouse-opens-11am/
END:VEVENT
BEGIN:VEVENT
DTSTART;TZID=America/Chicago:20221113T110000
DTEND;TZID=America/Chicago:20221113T170000
DTSTAMP:20260419T151149
CREATED:20221108T190330Z
LAST-MODIFIED:20221108T190330Z
UID:27255-1668337200-1668358800@www.lincolnvalleygolf.com
SUMMARY:Clubhouse Opens @ 11am
DESCRIPTION:
URL:http://www.lincolnvalleygolf.com/event/clubhouse-opens-11am-2/
END:VEVENT
BEGIN:VEVENT
DTSTART;TZID=America/Chicago:20221116T190000
DTEND;TZID=America/Chicago:20221116T210000
DTSTAMP:20260419T151149
CREATED:20220920T182737Z
LAST-MODIFIED:20221108T205703Z
UID:26895-1668625200-1668632400@www.lincolnvalleygolf.com
SUMMARY:Board Meeting 7pm * Wednesday November 16th
DESCRIPTION:
URL:http://www.lincolnvalleygolf.com/event/board-meeting-7pm-3/
END:VEVENT
END:VCALENDAR