BEGIN:VCALENDAR
VERSION:2.0
PRODID:-//Lincoln Valley - ECPv6.15.17.1//NONSGML v1.0//EN
CALSCALE:GREGORIAN
METHOD:PUBLISH
X-ORIGINAL-URL:http://www.lincolnvalleygolf.com
X-WR-CALDESC:Events for Lincoln Valley
REFRESH-INTERVAL;VALUE=DURATION:PT1H
X-Robots-Tag:noindex
X-PUBLISHED-TTL:PT1H
BEGIN:VTIMEZONE
TZID:America/Chicago
BEGIN:DAYLIGHT
TZOFFSETFROM:-0600
TZOFFSETTO:-0500
TZNAME:CDT
DTSTART:20220313T080000
END:DAYLIGHT
BEGIN:STANDARD
TZOFFSETFROM:-0500
TZOFFSETTO:-0600
TZNAME:CST
DTSTART:20221106T070000
END:STANDARD
BEGIN:DAYLIGHT
TZOFFSETFROM:-0600
TZOFFSETTO:-0500
TZNAME:CDT
DTSTART:20230312T080000
END:DAYLIGHT
BEGIN:STANDARD
TZOFFSETFROM:-0500
TZOFFSETTO:-0600
TZNAME:CST
DTSTART:20231105T070000
END:STANDARD
BEGIN:DAYLIGHT
TZOFFSETFROM:-0600
TZOFFSETTO:-0500
TZNAME:CDT
DTSTART:20240310T080000
END:DAYLIGHT
BEGIN:STANDARD
TZOFFSETFROM:-0500
TZOFFSETTO:-0600
TZNAME:CST
DTSTART:20241103T070000
END:STANDARD
END:VTIMEZONE
BEGIN:VEVENT
DTSTART;TZID=America/Chicago:20230114T163000
DTEND;TZID=America/Chicago:20230114T230000
DTSTAMP:20260419T121321
CREATED:20221108T205542Z
LAST-MODIFIED:20221108T205542Z
UID:27435-1673713800-1673737200@www.lincolnvalleygolf.com
SUMMARY:State Center EMS & Fire Department Awards Dinner
DESCRIPTION:Ballroom Booked
URL:http://www.lincolnvalleygolf.com/event/state-center-ems-fire-department-awards-dinner/
END:VEVENT
BEGIN:VEVENT
DTSTART;VALUE=DATE:20230117
DTEND;VALUE=DATE:20230118
DTSTAMP:20260419T121321
CREATED:20230113T185604Z
LAST-MODIFIED:20230113T185604Z
UID:28265-1673913600-1673999999@www.lincolnvalleygolf.com
SUMMARY:Clubhouse Closed
DESCRIPTION:Painting this week
URL:http://www.lincolnvalleygolf.com/event/clubhouse-closed-6/
END:VEVENT
BEGIN:VEVENT
DTSTART;TZID=America/Chicago:20230118T160000
DTEND;TZID=America/Chicago:20230119T200000
DTSTAMP:20260419T121321
CREATED:20230113T185739Z
LAST-MODIFIED:20230113T185739Z
UID:28285-1674057600-1674158400@www.lincolnvalleygolf.com
SUMMARY:Clubhouse Opens at 4pm
DESCRIPTION:Clubhouse Opens at 4pm \nWednesday 18th & Thursday 19th
URL:http://www.lincolnvalleygolf.com/event/clubhouse-opens-at-4pm/
END:VEVENT
BEGIN:VEVENT
DTSTART;TZID=America/Chicago:20230128T160000
DTEND;TZID=America/Chicago:20230128T233000
DTSTAMP:20260419T121321
CREATED:20230113T184742Z
LAST-MODIFIED:20230113T184742Z
UID:28125-1674921600-1674948600@www.lincolnvalleygolf.com
SUMMARY:Clubhouse Closes at 4pm
DESCRIPTION:LV Employee Christmas Party 4pm \nClubhouse Closes at 4pm
URL:http://www.lincolnvalleygolf.com/event/clubhouse-closes-at-4pm/
END:VEVENT
END:VCALENDAR