BEGIN:VCALENDAR
VERSION:2.0
PRODID:-//Lincoln Valley - ECPv6.15.17.1//NONSGML v1.0//EN
CALSCALE:GREGORIAN
METHOD:PUBLISH
X-WR-CALNAME:Lincoln Valley
X-ORIGINAL-URL:http://www.lincolnvalleygolf.com
X-WR-CALDESC:Events for Lincoln Valley
REFRESH-INTERVAL;VALUE=DURATION:PT1H
X-Robots-Tag:noindex
X-PUBLISHED-TTL:PT1H
BEGIN:VTIMEZONE
TZID:America/Chicago
BEGIN:DAYLIGHT
TZOFFSETFROM:-0600
TZOFFSETTO:-0500
TZNAME:CDT
DTSTART:20240310T080000
END:DAYLIGHT
BEGIN:STANDARD
TZOFFSETFROM:-0500
TZOFFSETTO:-0600
TZNAME:CST
DTSTART:20241103T070000
END:STANDARD
BEGIN:DAYLIGHT
TZOFFSETFROM:-0600
TZOFFSETTO:-0500
TZNAME:CDT
DTSTART:20250309T080000
END:DAYLIGHT
BEGIN:STANDARD
TZOFFSETFROM:-0500
TZOFFSETTO:-0600
TZNAME:CST
DTSTART:20251102T070000
END:STANDARD
BEGIN:DAYLIGHT
TZOFFSETFROM:-0600
TZOFFSETTO:-0500
TZNAME:CDT
DTSTART:20260308T080000
END:DAYLIGHT
BEGIN:STANDARD
TZOFFSETFROM:-0500
TZOFFSETTO:-0600
TZNAME:CST
DTSTART:20261101T070000
END:STANDARD
END:VTIMEZONE
BEGIN:VEVENT
DTSTART;TZID=America/Chicago:20250305T190000
DTEND;TZID=America/Chicago:20250305T210000
DTSTAMP:20260425T162652
CREATED:20241121T191255Z
LAST-MODIFIED:20241121T191255Z
UID:38575-1741201200-1741208400@www.lincolnvalleygolf.com
SUMMARY:Pool League - 7pm
DESCRIPTION:LV1 – away @ Melbourne Pub 3—- \nLV2 – Home vs Melbourne Pub 2 \n 
URL:http://www.lincolnvalleygolf.com/event/pool-league-7pm-17/
END:VEVENT
BEGIN:VEVENT
DTSTART;TZID=America/Chicago:20250307T180000
DTEND;TZID=America/Chicago:20250307T210000
DTSTAMP:20260425T162652
CREATED:20250213T192354Z
LAST-MODIFIED:20250213T192354Z
UID:40445-1741370400-1741381200@www.lincolnvalleygolf.com
SUMMARY:Fundraiser
DESCRIPTION:Ballroom Reserved
URL:http://www.lincolnvalleygolf.com/event/fundraiser/
END:VEVENT
BEGIN:VEVENT
DTSTART;TZID=America/Chicago:20250308T170000
DTEND;TZID=America/Chicago:20250308T220000
DTSTAMP:20260425T162652
CREATED:20250131T164355Z
LAST-MODIFIED:20250131T164355Z
UID:39165-1741453200-1741471200@www.lincolnvalleygolf.com
SUMMARY:Marshall County Cattlemen & Pork Producers Banquet
DESCRIPTION:Ballroom reserved
URL:http://www.lincolnvalleygolf.com/event/marshall-county-cattlemen-pork-producers-banquet/
END:VEVENT
BEGIN:VEVENT
DTSTART;TZID=America/Chicago:20250312T190000
DTEND;TZID=America/Chicago:20250312T210000
DTSTAMP:20260425T162652
CREATED:20241121T191346Z
LAST-MODIFIED:20241121T191346Z
UID:38595-1741806000-1741813200@www.lincolnvalleygolf.com
SUMMARY:Pool League - 7pm
DESCRIPTION:LV1 – VS – LV2!!
URL:http://www.lincolnvalleygolf.com/event/pool-league-7pm-18/
END:VEVENT
BEGIN:VEVENT
DTSTART;TZID=America/Chicago:20250319T180000
DTEND;TZID=America/Chicago:20250319T223000
DTSTAMP:20260425T162652
CREATED:20250131T164505Z
LAST-MODIFIED:20250131T164505Z
UID:39185-1742407200-1742423400@www.lincolnvalleygolf.com
SUMMARY:Ballroom Reserved
DESCRIPTION:Ballroom reserved – 6pm
URL:http://www.lincolnvalleygolf.com/event/ballroom-reserved-8/
END:VEVENT
BEGIN:VEVENT
DTSTART;TZID=America/Chicago:20250323T180000
DTEND;TZID=America/Chicago:20250323T200000
DTSTAMP:20260425T162652
CREATED:20250131T164551Z
LAST-MODIFIED:20250131T164551Z
UID:39205-1742752800-1742760000@www.lincolnvalleygolf.com
SUMMARY:Board Meeting - 6pm
DESCRIPTION:Board Meeting – 6pm
URL:http://www.lincolnvalleygolf.com/event/board-meeting-6pm-2/
END:VEVENT
BEGIN:VEVENT
DTSTART;TZID=America/Chicago:20250328T170000
DTEND;TZID=America/Chicago:20250328T220000
DTSTAMP:20260425T162652
CREATED:20250131T164717Z
LAST-MODIFIED:20250213T192930Z
UID:39225-1743181200-1743199200@www.lincolnvalleygolf.com
SUMMARY:Rehearsal Dinner
DESCRIPTION:Congrats\, Grace Spindler & Wyatt Edler!
URL:http://www.lincolnvalleygolf.com/event/rehearsal-dinner/
END:VEVENT
BEGIN:VEVENT
DTSTART;TZID=America/Chicago:20250329T170000
DTEND;TZID=America/Chicago:20250329T220000
DTSTAMP:20260425T162652
CREATED:20250131T164756Z
LAST-MODIFIED:20250131T164756Z
UID:39245-1743267600-1743285600@www.lincolnvalleygolf.com
SUMMARY:Ballroom Reserved
DESCRIPTION:
URL:http://www.lincolnvalleygolf.com/event/ballroom-reserved-9/
END:VEVENT
END:VCALENDAR