BEGIN:VCALENDAR
VERSION:2.0
PRODID:-//Lincoln Valley - ECPv6.15.17.1//NONSGML v1.0//EN
CALSCALE:GREGORIAN
METHOD:PUBLISH
X-ORIGINAL-URL:http://www.lincolnvalleygolf.com
X-WR-CALDESC:Events for Lincoln Valley
REFRESH-INTERVAL;VALUE=DURATION:PT1H
X-Robots-Tag:noindex
X-PUBLISHED-TTL:PT1H
BEGIN:VTIMEZONE
TZID:America/Chicago
BEGIN:DAYLIGHT
TZOFFSETFROM:-0600
TZOFFSETTO:-0500
TZNAME:CDT
DTSTART:20240310T080000
END:DAYLIGHT
BEGIN:STANDARD
TZOFFSETFROM:-0500
TZOFFSETTO:-0600
TZNAME:CST
DTSTART:20241103T070000
END:STANDARD
BEGIN:DAYLIGHT
TZOFFSETFROM:-0600
TZOFFSETTO:-0500
TZNAME:CDT
DTSTART:20250309T080000
END:DAYLIGHT
BEGIN:STANDARD
TZOFFSETFROM:-0500
TZOFFSETTO:-0600
TZNAME:CST
DTSTART:20251102T070000
END:STANDARD
BEGIN:DAYLIGHT
TZOFFSETFROM:-0600
TZOFFSETTO:-0500
TZNAME:CDT
DTSTART:20260308T080000
END:DAYLIGHT
BEGIN:STANDARD
TZOFFSETFROM:-0500
TZOFFSETTO:-0600
TZNAME:CST
DTSTART:20261101T070000
END:STANDARD
END:VTIMEZONE
BEGIN:VEVENT
DTSTART;TZID=America/Chicago:20250405T163000
DTEND;TZID=America/Chicago:20250405T233000
DTSTAMP:20260425T144216
CREATED:20250131T164916Z
LAST-MODIFIED:20250131T164916Z
UID:39265-1743870600-1743895800@www.lincolnvalleygolf.com
SUMMARY:Baxter Booster Bash!
DESCRIPTION:Ballroom reserved for the Baxter Booster Club Fundraiser. \nBar & Clubhouse will close at 4:30pm
URL:http://www.lincolnvalleygolf.com/event/baxter-booster-bash-3/
END:VEVENT
BEGIN:VEVENT
DTSTART;TZID=America/Chicago:20250408T160000
DTEND;TZID=America/Chicago:20250408T203000
DTSTAMP:20260425T144216
CREATED:20250131T165110Z
LAST-MODIFIED:20250131T165110Z
UID:39285-1744128000-1744144200@www.lincolnvalleygolf.com
SUMMARY:Back 9 Closed @ 4pm
DESCRIPTION:WM Boy/Girl Golf meet \nBack 9 closed @ 4:00pm
URL:http://www.lincolnvalleygolf.com/event/back-9-closed-4pm/
END:VEVENT
BEGIN:VEVENT
DTSTART;TZID=America/Chicago:20250412T170000
DTEND;TZID=America/Chicago:20250412T220000
DTSTAMP:20260425T144216
CREATED:20250131T165148Z
LAST-MODIFIED:20250131T165148Z
UID:39305-1744477200-1744495200@www.lincolnvalleygolf.com
SUMMARY:Ballroom Reserved
DESCRIPTION:
URL:http://www.lincolnvalleygolf.com/event/ballroom-reserved-10/
END:VEVENT
BEGIN:VEVENT
DTSTART;TZID=America/Chicago:20250414T160000
DTEND;TZID=America/Chicago:20250414T203000
DTSTAMP:20260425T144216
CREATED:20250131T165334Z
LAST-MODIFIED:20250131T165334Z
UID:39345-1744646400-1744662600@www.lincolnvalleygolf.com
SUMMARY:Back 9 Closed
DESCRIPTION:WM Boy/Girl Meet \nBack 9 closed
URL:http://www.lincolnvalleygolf.com/event/back-9-closed/
END:VEVENT
BEGIN:VEVENT
DTSTART;TZID=America/Chicago:20250421T130000
DTEND;TZID=America/Chicago:20250421T200000
DTSTAMP:20260425T144216
CREATED:20250131T165507Z
LAST-MODIFIED:20250131T165507Z
UID:39365-1745240400-1745265600@www.lincolnvalleygolf.com
SUMMARY:WM Boys 18-hole Tournament
DESCRIPTION:Course Closed at 1pm \nWM Boys Tournament – 2pm shotgun start
URL:http://www.lincolnvalleygolf.com/event/wm-boys-18-hole-tournament/
END:VEVENT
BEGIN:VEVENT
DTSTART;TZID=America/Chicago:20250422T130000
DTEND;TZID=America/Chicago:20250422T203000
DTSTAMP:20260425T144216
CREATED:20250131T165654Z
LAST-MODIFIED:20250131T165654Z
UID:39385-1745326800-1745353800@www.lincolnvalleygolf.com
SUMMARY:WM Girls 18-hole Tournament
DESCRIPTION:Course Closed at 1:00pm \nWest Marshall Girls 18-hole tournament \n2:00pm shotgun start
URL:http://www.lincolnvalleygolf.com/event/wm-girls-18-hole-tournament/
END:VEVENT
BEGIN:VEVENT
DTSTART;TZID=America/Chicago:20250426T080000
DTEND;TZID=America/Chicago:20250426T170000
DTSTAMP:20260425T144216
CREATED:20250131T165841Z
LAST-MODIFIED:20250131T165841Z
UID:39405-1745654400-1745686800@www.lincolnvalleygolf.com
SUMMARY:Joe Cordt Hall of Fame Golf Tournament
DESCRIPTION:Course Closed \n9am shotgun – Registration starts at 8am
URL:http://www.lincolnvalleygolf.com/event/joe-cordt-hall-of-fame-golf-tournament/
END:VEVENT
BEGIN:VEVENT
DTSTART;TZID=America/Chicago:20250427T110000
DTEND;TZID=America/Chicago:20250427T110000
DTSTAMP:20260425T144216
CREATED:20250131T170017Z
LAST-MODIFIED:20250131T170039Z
UID:39425-1745751600-1745751600@www.lincolnvalleygolf.com
SUMMARY:Early Bird- Course Closed
DESCRIPTION:Course Closed \n3-Person Best shot – Members Only! \n11:00am shotgun start
URL:http://www.lincolnvalleygolf.com/event/early-bird-3/
END:VEVENT
BEGIN:VEVENT
DTSTART;TZID=America/Chicago:20250430T173000
DTEND;TZID=America/Chicago:20250430T200000
DTSTAMP:20260425T144216
CREATED:20250131T170153Z
LAST-MODIFIED:20250131T170153Z
UID:39455-1746034200-1746043200@www.lincolnvalleygolf.com
SUMMARY:Ladies Spring Banquet
DESCRIPTION:Ladies Spring Banquet \nSocial 5:30pm – Dinner 6:00pm – Meeting to follow
URL:http://www.lincolnvalleygolf.com/event/ladies-spring-banquet-2/
END:VEVENT
END:VCALENDAR