BEGIN:VCALENDAR
VERSION:2.0
PRODID:-//Lincoln Valley - ECPv6.15.17.1//NONSGML v1.0//EN
CALSCALE:GREGORIAN
METHOD:PUBLISH
X-WR-CALNAME:Lincoln Valley
X-ORIGINAL-URL:http://www.lincolnvalleygolf.com
X-WR-CALDESC:Events for Lincoln Valley
REFRESH-INTERVAL;VALUE=DURATION:PT1H
X-Robots-Tag:noindex
X-PUBLISHED-TTL:PT1H
BEGIN:VTIMEZONE
TZID:America/Chicago
BEGIN:DAYLIGHT
TZOFFSETFROM:-0600
TZOFFSETTO:-0500
TZNAME:CDT
DTSTART:20240310T080000
END:DAYLIGHT
BEGIN:STANDARD
TZOFFSETFROM:-0500
TZOFFSETTO:-0600
TZNAME:CST
DTSTART:20241103T070000
END:STANDARD
BEGIN:DAYLIGHT
TZOFFSETFROM:-0600
TZOFFSETTO:-0500
TZNAME:CDT
DTSTART:20250309T080000
END:DAYLIGHT
BEGIN:STANDARD
TZOFFSETFROM:-0500
TZOFFSETTO:-0600
TZNAME:CST
DTSTART:20251102T070000
END:STANDARD
BEGIN:DAYLIGHT
TZOFFSETFROM:-0600
TZOFFSETTO:-0500
TZNAME:CDT
DTSTART:20260308T080000
END:DAYLIGHT
BEGIN:STANDARD
TZOFFSETFROM:-0500
TZOFFSETTO:-0600
TZNAME:CST
DTSTART:20261101T070000
END:STANDARD
END:VTIMEZONE
BEGIN:VEVENT
DTSTART;TZID=America/Chicago:20250902T080000
DTEND;TZID=America/Chicago:20250902T100000
DTSTAMP:20260425T053913
CREATED:20250131T185321Z
LAST-MODIFIED:20250131T185321Z
UID:40205-1756800000-1756807200@www.lincolnvalleygolf.com
SUMMARY:Saydel Group
DESCRIPTION:Busy Morning – you must have a tee time
URL:http://www.lincolnvalleygolf.com/event/saydel-group-19/
END:VEVENT
BEGIN:VEVENT
DTSTART;TZID=America/Chicago:20250913T090000
DTEND;TZID=America/Chicago:20250913T120000
DTSTAMP:20260425T053913
CREATED:20250609T175043Z
LAST-MODIFIED:20250908T174333Z
UID:41935-1757754000-1757764800@www.lincolnvalleygolf.com
SUMMARY:9-hole Fundraiser Outing - Front 9 closed
DESCRIPTION:Golf Outing- Front 9 Closed 9am-12pm
URL:http://www.lincolnvalleygolf.com/event/outing/
END:VEVENT
BEGIN:VEVENT
DTSTART;TZID=America/Chicago:20250914T110000
DTEND;TZID=America/Chicago:20250914T110000
DTSTAMP:20260425T053913
CREATED:20250801T163706Z
LAST-MODIFIED:20250801T163706Z
UID:42505-1757847600-1757847600@www.lincolnvalleygolf.com
SUMMARY:WM After Prom Golf Outing Fundraiser!
DESCRIPTION:Sunday\, September 14th- 11:00am shotgun start \n9-holes of wacky rules!  $30 per golfer – carts extra \nPrizes for best dressed/best themed team!
URL:http://www.lincolnvalleygolf.com/event/wm-after-prom-golf-outing-fundraiser/
END:VEVENT
BEGIN:VEVENT
DTSTART;VALUE=DATE:20250920
DTEND;VALUE=DATE:20250921
DTSTAMP:20260425T053913
CREATED:20250609T174951Z
LAST-MODIFIED:20250609T174951Z
UID:41915-1758326400-1758412799@www.lincolnvalleygolf.com
SUMMARY:Ballroom Rented
DESCRIPTION:Bday Party
URL:http://www.lincolnvalleygolf.com/event/ballroom-rented-2/
END:VEVENT
BEGIN:VEVENT
DTSTART;TZID=America/Chicago:20250921T170000
DTEND;TZID=America/Chicago:20250921T200000
DTSTAMP:20260425T053913
CREATED:20250919T193733Z
LAST-MODIFIED:20250919T193733Z
UID:42975-1758474000-1758484800@www.lincolnvalleygolf.com
SUMMARY:Clubhouse & Front 9 closes at 5:00pm
DESCRIPTION:Any member with their own cart can play the back 9 – \nFront 9 and Clubhouse will close at 5:00pm
URL:http://www.lincolnvalleygolf.com/event/clubhouse-front-9-closes-at-500pm/
END:VEVENT
BEGIN:VEVENT
DTSTART;TZID=America/Chicago:20250922T080000
DTEND;TZID=America/Chicago:20250922T140000
DTSTAMP:20260425T053913
CREATED:20250131T185411Z
LAST-MODIFIED:20250131T185411Z
UID:40225-1758528000-1758549600@www.lincolnvalleygolf.com
SUMMARY:Mid Iowa Seniors
DESCRIPTION:Course Closed – 8am
URL:http://www.lincolnvalleygolf.com/event/mid-iowa-seniors/
END:VEVENT
BEGIN:VEVENT
DTSTART;TZID=America/Chicago:20250923T150000
DTEND;TZID=America/Chicago:20250923T200000
DTSTAMP:20260425T053913
CREATED:20250609T174852Z
LAST-MODIFIED:20250609T174852Z
UID:41895-1758639600-1758657600@www.lincolnvalleygolf.com
SUMMARY:West Marshall Cross Country Meet - Course Closes at 3pm
DESCRIPTION:West Marshall Cross Country Meet – 4pm start \nCourse Closes at 3pm
URL:http://www.lincolnvalleygolf.com/event/west-marshall-cross-country-meet-course-closes-at-3pm/
END:VEVENT
BEGIN:VEVENT
DTSTART;TZID=America/Chicago:20250928T100000
DTEND;TZID=America/Chicago:20250928T170000
DTSTAMP:20260425T053913
CREATED:20250131T185529Z
LAST-MODIFIED:20250621T173350Z
UID:40245-1759053600-1759078800@www.lincolnvalleygolf.com
SUMMARY:Chili Cook-Off Tournamnet
DESCRIPTION:Course Closed – 10am shotgun \n4-person best shot
URL:http://www.lincolnvalleygolf.com/event/chili-cook-off-tournamnet/
END:VEVENT
END:VCALENDAR