BEGIN:VCALENDAR
VERSION:2.0
PRODID:-//Lincoln Valley - ECPv6.15.17.1//NONSGML v1.0//EN
CALSCALE:GREGORIAN
METHOD:PUBLISH
X-ORIGINAL-URL:http://www.lincolnvalleygolf.com
X-WR-CALDESC:Events for Lincoln Valley
REFRESH-INTERVAL;VALUE=DURATION:PT1H
X-Robots-Tag:noindex
X-PUBLISHED-TTL:PT1H
BEGIN:VTIMEZONE
TZID:America/Chicago
BEGIN:DAYLIGHT
TZOFFSETFROM:-0600
TZOFFSETTO:-0500
TZNAME:CDT
DTSTART:20250309T080000
END:DAYLIGHT
BEGIN:STANDARD
TZOFFSETFROM:-0500
TZOFFSETTO:-0600
TZNAME:CST
DTSTART:20251102T070000
END:STANDARD
BEGIN:DAYLIGHT
TZOFFSETFROM:-0600
TZOFFSETTO:-0500
TZNAME:CDT
DTSTART:20260308T080000
END:DAYLIGHT
BEGIN:STANDARD
TZOFFSETFROM:-0500
TZOFFSETTO:-0600
TZNAME:CST
DTSTART:20261101T070000
END:STANDARD
BEGIN:DAYLIGHT
TZOFFSETFROM:-0600
TZOFFSETTO:-0500
TZNAME:CDT
DTSTART:20270314T080000
END:DAYLIGHT
BEGIN:STANDARD
TZOFFSETFROM:-0500
TZOFFSETTO:-0600
TZNAME:CST
DTSTART:20271107T070000
END:STANDARD
END:VTIMEZONE
BEGIN:VEVENT
DTSTART;TZID=America/Chicago:20260108T183000
DTEND;TZID=America/Chicago:20260108T213000
DTSTAMP:20260424T223203
CREATED:20251118T163454Z
LAST-MODIFIED:20251118T163454Z
UID:43915-1767897000-1767907800@www.lincolnvalleygolf.com
SUMMARY:Pool League - 6:30pm
DESCRIPTION:
URL:http://www.lincolnvalleygolf.com/event/pool-league-630pm-10/
END:VEVENT
BEGIN:VEVENT
DTSTART;TZID=America/Chicago:20260110T160000
DTEND;TZID=America/Chicago:20260110T230000
DTSTAMP:20260424T223203
CREATED:20251111T164151Z
LAST-MODIFIED:20251203T191702Z
UID:43655-1768060800-1768086000@www.lincolnvalleygolf.com
SUMMARY:State Center EMS & Fire Department Banquet
DESCRIPTION:Ballroom Reserved \nState Center EMS & Fire Department Banquet
URL:http://www.lincolnvalleygolf.com/event/ballroom-reserved-13/
END:VEVENT
BEGIN:VEVENT
DTSTART;TZID=America/Chicago:20260114T180000
DTEND;TZID=America/Chicago:20260114T203000
DTSTAMP:20260424T223203
CREATED:20251118T163843Z
LAST-MODIFIED:20251118T163843Z
UID:43935-1768413600-1768422600@www.lincolnvalleygolf.com
SUMMARY:Ladies Night - 6pm
DESCRIPTION:Come enjoy a night out with friends. \nPlaying cards/board games. 6pm
URL:http://www.lincolnvalleygolf.com/event/ladies-night-6pm/
END:VEVENT
BEGIN:VEVENT
DTSTART;TZID=America/Chicago:20260114T183000
DTEND;TZID=America/Chicago:20260114T213000
DTSTAMP:20260424T223203
CREATED:20251118T163923Z
LAST-MODIFIED:20251118T163923Z
UID:43965-1768415400-1768426200@www.lincolnvalleygolf.com
SUMMARY:Pool League - 6:30pm
DESCRIPTION:
URL:http://www.lincolnvalleygolf.com/event/pool-league-630pm-11/
END:VEVENT
BEGIN:VEVENT
DTSTART;TZID=America/Chicago:20260115T183000
DTEND;TZID=America/Chicago:20260115T213000
DTSTAMP:20260424T223203
CREATED:20251217T213405Z
LAST-MODIFIED:20251217T213405Z
UID:44395-1768501800-1768512600@www.lincolnvalleygolf.com
SUMMARY:Pool League- 6:30pm
DESCRIPTION:
URL:http://www.lincolnvalleygolf.com/event/pool-league-630pm-18/
END:VEVENT
BEGIN:VEVENT
DTSTART;TZID=America/Chicago:20260118T180000
DTEND;TZID=America/Chicago:20260118T200000
DTSTAMP:20260424T223203
CREATED:20251118T161026Z
LAST-MODIFIED:20251118T161026Z
UID:43835-1768759200-1768766400@www.lincolnvalleygolf.com
SUMMARY:Board Meeting - 6pm
DESCRIPTION:
URL:http://www.lincolnvalleygolf.com/event/board-meeting-6pm-4/
END:VEVENT
BEGIN:VEVENT
DTSTART;TZID=America/Chicago:20260128T183000
DTEND;TZID=America/Chicago:20260128T213000
DTSTAMP:20260424T223203
CREATED:20251118T164003Z
LAST-MODIFIED:20251118T164003Z
UID:43985-1769625000-1769635800@www.lincolnvalleygolf.com
SUMMARY:Pool League - 6:30pm
DESCRIPTION:
URL:http://www.lincolnvalleygolf.com/event/pool-league-630pm-12/
END:VEVENT
BEGIN:VEVENT
DTSTART;TZID=America/Chicago:20260129T183000
DTEND;TZID=America/Chicago:20260129T213000
DTSTAMP:20260424T223203
CREATED:20251118T164046Z
LAST-MODIFIED:20251118T164046Z
UID:44005-1769711400-1769722200@www.lincolnvalleygolf.com
SUMMARY:Pool League - 6:30pm
DESCRIPTION:
URL:http://www.lincolnvalleygolf.com/event/pool-league-630pm-13/
END:VEVENT
END:VCALENDAR