BEGIN:VCALENDAR
VERSION:2.0
PRODID:-//Lincoln Valley - ECPv6.15.17.1//NONSGML v1.0//EN
CALSCALE:GREGORIAN
METHOD:PUBLISH
X-WR-CALNAME:Lincoln Valley
X-ORIGINAL-URL:http://www.lincolnvalleygolf.com
X-WR-CALDESC:Events for Lincoln Valley
REFRESH-INTERVAL;VALUE=DURATION:PT1H
X-Robots-Tag:noindex
X-PUBLISHED-TTL:PT1H
BEGIN:VTIMEZONE
TZID:America/Chicago
BEGIN:DAYLIGHT
TZOFFSETFROM:-0600
TZOFFSETTO:-0500
TZNAME:CDT
DTSTART:20250309T080000
END:DAYLIGHT
BEGIN:STANDARD
TZOFFSETFROM:-0500
TZOFFSETTO:-0600
TZNAME:CST
DTSTART:20251102T070000
END:STANDARD
BEGIN:DAYLIGHT
TZOFFSETFROM:-0600
TZOFFSETTO:-0500
TZNAME:CDT
DTSTART:20260308T080000
END:DAYLIGHT
BEGIN:STANDARD
TZOFFSETFROM:-0500
TZOFFSETTO:-0600
TZNAME:CST
DTSTART:20261101T070000
END:STANDARD
BEGIN:DAYLIGHT
TZOFFSETFROM:-0600
TZOFFSETTO:-0500
TZNAME:CDT
DTSTART:20270314T080000
END:DAYLIGHT
BEGIN:STANDARD
TZOFFSETFROM:-0500
TZOFFSETTO:-0600
TZNAME:CST
DTSTART:20271107T070000
END:STANDARD
END:VTIMEZONE
BEGIN:VEVENT
DTSTART;TZID=America/Chicago:20260201T120000
DTEND;TZID=America/Chicago:20260201T160000
DTSTAMP:20260424T204605
CREATED:20251111T164048Z
LAST-MODIFIED:20251111T164107Z
UID:43635-1769947200-1769961600@www.lincolnvalleygolf.com
SUMMARY:Ballroom Reserved
DESCRIPTION:Baby Shower!!
URL:http://www.lincolnvalleygolf.com/event/ballroom-reserved-12/
END:VEVENT
BEGIN:VEVENT
DTSTART;TZID=America/Chicago:20260204T183000
DTEND;TZID=America/Chicago:20260204T210000
DTSTAMP:20260424T204605
CREATED:20251111T163728Z
LAST-MODIFIED:20251111T163728Z
UID:43575-1770229800-1770238800@www.lincolnvalleygolf.com
SUMMARY:Pool League (home) 6:30pm
DESCRIPTION:
URL:http://www.lincolnvalleygolf.com/event/pool-league-home-630pm-5/
END:VEVENT
BEGIN:VEVENT
DTSTART;TZID=America/Chicago:20260205T183000
DTEND;TZID=America/Chicago:20260205T213000
DTSTAMP:20260424T204605
CREATED:20251217T213603Z
LAST-MODIFIED:20251217T213603Z
UID:44415-1770316200-1770327000@www.lincolnvalleygolf.com
SUMMARY:Pool League- 6:30pm
DESCRIPTION:
URL:http://www.lincolnvalleygolf.com/event/pool-league-630pm-19/
END:VEVENT
BEGIN:VEVENT
DTSTART;VALUE=DATE:20260207
DTEND;VALUE=DATE:20260208
DTSTAMP:20260424T204605
CREATED:20251024T202014Z
LAST-MODIFIED:20251024T202014Z
UID:43255-1770422400-1770508799@www.lincolnvalleygolf.com
SUMMARY:Wedding Reception
DESCRIPTION:Ballroom Reserved – Congrats Allison & Tyler Ozono!
URL:http://www.lincolnvalleygolf.com/event/wedding-reception-19/
END:VEVENT
BEGIN:VEVENT
DTSTART;TZID=America/Chicago:20260211T180000
DTEND;TZID=America/Chicago:20260211T203000
DTSTAMP:20260424T204605
CREATED:20251118T160836Z
LAST-MODIFIED:20251118T160946Z
UID:43815-1770832800-1770841800@www.lincolnvalleygolf.com
SUMMARY:Ladies Game Night - 6pm
DESCRIPTION:Come enjoy a night out with friends. \nPlaying cards/board games. 6pm
URL:http://www.lincolnvalleygolf.com/event/ladies-game-night-6pm-3/
END:VEVENT
BEGIN:VEVENT
DTSTART;TZID=America/Chicago:20260212T183000
DTEND;TZID=America/Chicago:20260212T213000
DTSTAMP:20260424T204605
CREATED:20251118T164402Z
LAST-MODIFIED:20251118T164402Z
UID:44025-1770921000-1770931800@www.lincolnvalleygolf.com
SUMMARY:Pool League - 6:30pm
DESCRIPTION:
URL:http://www.lincolnvalleygolf.com/event/pool-league-630pm-14/
END:VEVENT
BEGIN:VEVENT
DTSTART;TZID=America/Chicago:20260221T150000
DTEND;TZID=America/Chicago:20260221T190000
DTSTAMP:20260424T204605
CREATED:20260127T190949Z
LAST-MODIFIED:20260127T190949Z
UID:44465-1771686000-1771700400@www.lincolnvalleygolf.com
SUMMARY:'Pay Your Dues Party!'
DESCRIPTION:Stop out and get the best rate for 2026 Golf Season! \n3:00pm-7:00pm – Chili\, Snacks\, & Drink Specials \n 
URL:http://www.lincolnvalleygolf.com/event/pay-your-dues-party-4/
END:VEVENT
BEGIN:VEVENT
DTSTART;TZID=America/Chicago:20260225T183000
DTEND;TZID=America/Chicago:20260225T210000
DTSTAMP:20260424T204605
CREATED:20251111T163814Z
LAST-MODIFIED:20251111T163814Z
UID:43595-1772044200-1772053200@www.lincolnvalleygolf.com
SUMMARY:Pool League (home) 6:30pm
DESCRIPTION:
URL:http://www.lincolnvalleygolf.com/event/pool-league-home-630pm-6/
END:VEVENT
BEGIN:VEVENT
DTSTART;TZID=America/Chicago:20260226T183000
DTEND;TZID=America/Chicago:20260226T213000
DTSTAMP:20260424T204605
CREATED:20251118T164444Z
LAST-MODIFIED:20251118T164444Z
UID:44045-1772130600-1772141400@www.lincolnvalleygolf.com
SUMMARY:Pool League - 6:30pm
DESCRIPTION:
URL:http://www.lincolnvalleygolf.com/event/pool-league-630pm-15/
END:VEVENT
END:VCALENDAR