BEGIN:VCALENDAR
VERSION:2.0
PRODID:-//Lincoln Valley - ECPv6.15.17.1//NONSGML v1.0//EN
CALSCALE:GREGORIAN
METHOD:PUBLISH
X-ORIGINAL-URL:http://www.lincolnvalleygolf.com
X-WR-CALDESC:Events for Lincoln Valley
REFRESH-INTERVAL;VALUE=DURATION:PT1H
X-Robots-Tag:noindex
X-PUBLISHED-TTL:PT1H
BEGIN:VTIMEZONE
TZID:America/Chicago
BEGIN:DAYLIGHT
TZOFFSETFROM:-0600
TZOFFSETTO:-0500
TZNAME:CDT
DTSTART:20250309T080000
END:DAYLIGHT
BEGIN:STANDARD
TZOFFSETFROM:-0500
TZOFFSETTO:-0600
TZNAME:CST
DTSTART:20251102T070000
END:STANDARD
BEGIN:DAYLIGHT
TZOFFSETFROM:-0600
TZOFFSETTO:-0500
TZNAME:CDT
DTSTART:20260308T080000
END:DAYLIGHT
BEGIN:STANDARD
TZOFFSETFROM:-0500
TZOFFSETTO:-0600
TZNAME:CST
DTSTART:20261101T070000
END:STANDARD
BEGIN:DAYLIGHT
TZOFFSETFROM:-0600
TZOFFSETTO:-0500
TZNAME:CDT
DTSTART:20270314T080000
END:DAYLIGHT
BEGIN:STANDARD
TZOFFSETFROM:-0500
TZOFFSETTO:-0600
TZNAME:CST
DTSTART:20271107T070000
END:STANDARD
END:VTIMEZONE
BEGIN:VEVENT
DTSTART;TZID=America/Chicago:20260304T183000
DTEND;TZID=America/Chicago:20260304T210000
DTSTAMP:20260424T190154
CREATED:20251111T163914Z
LAST-MODIFIED:20251111T163914Z
UID:43615-1772649000-1772658000@www.lincolnvalleygolf.com
SUMMARY:Pool League (home) 6:30pm
DESCRIPTION:
URL:http://www.lincolnvalleygolf.com/event/pool-league-home-630pm-7/
END:VEVENT
BEGIN:VEVENT
DTSTART;TZID=America/Chicago:20260305T183000
DTEND;TZID=America/Chicago:20260305T213000
DTSTAMP:20260424T190154
CREATED:20251217T213727Z
LAST-MODIFIED:20251217T213727Z
UID:44435-1772735400-1772746200@www.lincolnvalleygolf.com
SUMMARY:Pool League - 6:30pm
DESCRIPTION:
URL:http://www.lincolnvalleygolf.com/event/pool-league-630pm-20/
END:VEVENT
BEGIN:VEVENT
DTSTART;TZID=America/Chicago:20260311T180000
DTEND;TZID=America/Chicago:20260311T203000
DTSTAMP:20260424T190154
CREATED:20251118T164805Z
LAST-MODIFIED:20251118T164805Z
UID:44105-1773252000-1773261000@www.lincolnvalleygolf.com
SUMMARY:Ladies Game Night- 6pm
DESCRIPTION:
URL:http://www.lincolnvalleygolf.com/event/ladies-game-night-6pm-4/
END:VEVENT
BEGIN:VEVENT
DTSTART;TZID=America/Chicago:20260312T183000
DTEND;TZID=America/Chicago:20260312T213000
DTSTAMP:20260424T190154
CREATED:20251118T164643Z
LAST-MODIFIED:20251118T164643Z
UID:44065-1773340200-1773351000@www.lincolnvalleygolf.com
SUMMARY:Pool League - 6:30pm
DESCRIPTION:
URL:http://www.lincolnvalleygolf.com/event/pool-league-630pm-16/
END:VEVENT
BEGIN:VEVENT
DTSTART;TZID=America/Chicago:20260318T173000
DTEND;TZID=America/Chicago:20260318T220000
DTSTAMP:20260424T190154
CREATED:20260128T013534Z
LAST-MODIFIED:20260128T013534Z
UID:44715-1773855000-1773871200@www.lincolnvalleygolf.com
SUMMARY:Ballroom Reserved
DESCRIPTION:Draft Night
URL:http://www.lincolnvalleygolf.com/event/ballroom-reserved-14/
END:VEVENT
BEGIN:VEVENT
DTSTART;TZID=America/Chicago:20260319T180000
DTEND;TZID=America/Chicago:20260319T220000
DTSTAMP:20260424T190154
CREATED:20260128T013621Z
LAST-MODIFIED:20260128T013621Z
UID:44735-1773943200-1773957600@www.lincolnvalleygolf.com
SUMMARY:Pool Night - 6:30pm
DESCRIPTION:
URL:http://www.lincolnvalleygolf.com/event/pool-night-630pm/
END:VEVENT
BEGIN:VEVENT
DTSTART;TZID=America/Chicago:20260321T100000
DTEND;TZID=America/Chicago:20260321T120000
DTSTAMP:20260424T190154
CREATED:20260128T013811Z
LAST-MODIFIED:20260128T013811Z
UID:44755-1774087200-1774094400@www.lincolnvalleygolf.com
SUMMARY:Bridal Shower
DESCRIPTION:Ballroom Reserved \nBridal Shower – Congrats\, Georgia Porter!
URL:http://www.lincolnvalleygolf.com/event/bridal-shower-3/
END:VEVENT
BEGIN:VEVENT
DTSTART;TZID=America/Chicago:20260322T180000
DTEND;TZID=America/Chicago:20260323T200000
DTSTAMP:20260424T190154
CREATED:20260319T004102Z
LAST-MODIFIED:20260319T004102Z
UID:46055-1774202400-1774296000@www.lincolnvalleygolf.com
SUMMARY:Board Meeting - 6pm
DESCRIPTION:Board Meeting
URL:http://www.lincolnvalleygolf.com/event/board-meeting-6pm-5/
END:VEVENT
BEGIN:VEVENT
DTSTART;TZID=America/Chicago:20260325T173000
DTEND;TZID=America/Chicago:20260325T213000
DTSTAMP:20260424T190154
CREATED:20260128T014013Z
LAST-MODIFIED:20260128T014013Z
UID:44775-1774459800-1774474200@www.lincolnvalleygolf.com
SUMMARY:Men's League Sign-up
DESCRIPTION:League sign-up – This is a Wednesday Night this year! \n5:30pm social – 6:00pm Dinner – Meeting to follow
URL:http://www.lincolnvalleygolf.com/event/mens-league-sign-up-4/
END:VEVENT
BEGIN:VEVENT
DTSTART;TZID=America/Chicago:20260326T183000
DTEND;TZID=America/Chicago:20260326T213000
DTSTAMP:20260424T190154
CREATED:20251118T164717Z
LAST-MODIFIED:20251118T164717Z
UID:44085-1774549800-1774560600@www.lincolnvalleygolf.com
SUMMARY:Pool League - 6:30pm
DESCRIPTION:
URL:http://www.lincolnvalleygolf.com/event/pool-league-630pm-17/
END:VEVENT
END:VCALENDAR